BEGIN:VCALENDAR
VERSION:2.0
PRODID:-//retro-guidon-de-loise.fr - ECPv6.15.20//NONSGML v1.0//EN
CALSCALE:GREGORIAN
METHOD:PUBLISH
X-WR-CALNAME:retro-guidon-de-loise.fr
X-ORIGINAL-URL:https://retro-guidon-de-loise.fr
X-WR-CALDESC:Évènements pour retro-guidon-de-loise.fr
REFRESH-INTERVAL;VALUE=DURATION:PT1H
X-Robots-Tag:noindex
X-PUBLISHED-TTL:PT1H
BEGIN:VTIMEZONE
TZID:Europe/Paris
BEGIN:DAYLIGHT
TZOFFSETFROM:+0100
TZOFFSETTO:+0200
TZNAME:CEST
DTSTART:20250330T010000
END:DAYLIGHT
BEGIN:STANDARD
TZOFFSETFROM:+0200
TZOFFSETTO:+0100
TZNAME:CET
DTSTART:20251026T010000
END:STANDARD
BEGIN:DAYLIGHT
TZOFFSETFROM:+0100
TZOFFSETTO:+0200
TZNAME:CEST
DTSTART:20260329T010000
END:DAYLIGHT
BEGIN:STANDARD
TZOFFSETFROM:+0200
TZOFFSETTO:+0100
TZNAME:CET
DTSTART:20261025T010000
END:STANDARD
BEGIN:DAYLIGHT
TZOFFSETFROM:+0100
TZOFFSETTO:+0200
TZNAME:CEST
DTSTART:20270328T010000
END:DAYLIGHT
BEGIN:STANDARD
TZOFFSETFROM:+0200
TZOFFSETTO:+0100
TZNAME:CET
DTSTART:20271031T010000
END:STANDARD
END:VTIMEZONE
BEGIN:VEVENT
DTSTART;TZID=Europe/Paris:20260920T080000
DTEND;TZID=Europe/Paris:20260920T170000
DTSTAMP:20260420T110109
CREATED:20260403T165829Z
LAST-MODIFIED:20260403T165829Z
UID:1824-1789891200-1789923600@retro-guidon-de-loise.fr
SUMMARY:Journée du patrimoine
DESCRIPTION:Cyclo et motos anciennes au départ de Montreuil sur Brêche
URL:https://retro-guidon-de-loise.fr/evenement/journee-du-patrimoine-2/
LOCATION:Montreuil sur Brêche\, Montreuil sur Brêche\, 60480\, France
ORGANIZER;CN="RGO":MAILTO:retroguidon.motosanciennes@orange.fr
END:VEVENT
BEGIN:VEVENT
DTSTART;TZID=Europe/Paris:20260927T080000
DTEND;TZID=Europe/Paris:20260927T170000
DTSTAMP:20260420T110109
CREATED:20260403T165955Z
LAST-MODIFIED:20260403T165955Z
UID:1826-1790496000-1790528400@retro-guidon-de-loise.fr
SUMMARY:Balade Saint Paul
DESCRIPTION:Au départ de Saint Paul\, organisé par Marc \nPique nique ou Food-Truck.
URL:https://retro-guidon-de-loise.fr/evenement/balade-saint-paul/
LOCATION:Saint Paul\, Saint Paul\, France
ORGANIZER;CN="RGO":MAILTO:retroguidon.motosanciennes@orange.fr
END:VEVENT
END:VCALENDAR